BEGIN:VCALENDAR
VERSION:2.0
PRODID:Events Booking
BEGIN:VEVENT
UID:69e7727162990
SUMMARY:Astronomie für ALLE!
DESCRIPTION:
 Sehr geehrte Astronomiebegeisterte\,
 wir laden Sie herzlic
 h jeden zweiten Freitag im Monat um 20:00 Uhr zu unserem monatlichen Astro
 nomietreffen in der Sternwarte der Kepler Gesellschaft in Weil der Stadt e
 in. Erkunden Sie den Nachthimmel und diskutieren Sie gemeinsam mit uns üb
 er das Universum.
 Unabhängig vom Wetter\, kommen wir zusammen\, um eine
  Atmosphäre zu schaffen\, die Wissen\, Information\, Freude und Lachen mi
 teinander vereint. Mit einführenden\, leicht verständlichen Vorträgen i
 n die Welt der Astronomie und des Kosmos einzutauchen. Unsere Treffen sind
  darauf ausgerichtet\, Fragen zu beantworten\, Neugier zu wecken und gemei
 nsam Themen rund um das Universum zu erkunden.
 Besucher jeden Alters sin
 d bei uns willkommen – ob Jung oder Alt\, Neuling oder erfahrener Himmel
 sbeobachter\, wir versprechen Ihnen Abende mit Informationen und angeregte
 n Diskussionen. Je nach Wetterlage ergänzen wir unsere Gespräche mit dir
 ekten Beobachtungen am Teleskop. Vielleicht gelingt es Theorie mit der Pra
 xis der Himmelsbeobachtung zu verbinden.
 Vorgesehene Themen für diesen 
 Abend:
 
 Die Entstehung unseres Sonnensystems mit seinen unterschiedlic
 hen Planeten
 Herkunft des Wassers auf der Erde
 
 Ihr Astronomietreff-
 Team
 
LOCATION:Johannes-Kepler-Gymnasium\, Max-Caspar-Straße 47\, Weil der Stadt
 \, Baden-Württemberg\, 71263\, Deutschland
DTSTART:20240614T180000Z
DTEND:20240614T200000Z
DTSTAMP:20240330T202125Z
ORGANIZER;CN=workshop@ kepler-sternwarte.de:MAILTO:workshop@kepler-sternwar
 te.de
GEO:48.752784;8.861008
X-APPLE-STRUCTURED-LOCATION;VALUE=URI;X-ADDRESS=Johannes-Kepler-Gymnasium\,
  Max-Caspar-Straße 47\, Weil der Stadt\, Baden-Württemberg\, 71263\, Deu
 tschland;X-APPLE-RADIUS=72;X-TITLE=Johannes Kepler Sternwarte Weil der Sta
 dt:48.752784;8.861008
END:VEVENT
END:VCALENDAR