BEGIN:VCALENDAR
VERSION:2.0
PRODID:Events Booking
BEGIN:VEVENT
UID:69e84d9919b76
SUMMARY:Astronomischer Jour Fix
DESCRIPTION:
DTSTART:20230901T180000Z
DTEND:20230901T200000Z
DTSTAMP:20230131T193933Z
ORGANIZER;CN=workshop@ kepler-sternwarte.de:MAILTO:workshop@kepler-sternwar
 te.de
END:VEVENT
END:VCALENDAR