BEGIN:VCALENDAR
VERSION:2.0
PRODID:Events Booking
BEGIN:VEVENT
UID:69e81ba7cd9f1
SUMMARY:Astronomischer Jour Fix
DESCRIPTION:
DTSTART:20231103T180000Z
DTEND:20231103T200000Z
DTSTAMP:20230131T193933Z
ORGANIZER;CN=workshop@ kepler-sternwarte.de:MAILTO:workshop@kepler-sternwar
 te.de
END:VEVENT
END:VCALENDAR