BEGIN:VCALENDAR
VERSION:2.0
PRODID:Events Booking
BEGIN:VEVENT
UID:69e7b39b8b8ca
SUMMARY:Astronomisches Seminar \"Strukturen im Kosmos - Einheit in der Viel
 falt\"
DESCRIPTION:Fachleute berichten und diskutieren über neue astronomische Er
 eignisse\, Forschungsergebnisse und eigene Arbeiten.Naturwissenschaftliche
  Vorkenntnisse werden erwartet.
 Prof. Dr. Matthias BartelmannInstitut f
 ür Theoretische Physik\, Universität HeidelbergOrt: Keplersaal im Planet
 ariumKassenöffnung eine halbe Stunde vor Beginn.Beginn: 20 UhrKein Karten
 vorverkauf.Eintritt: frei
LOCATION:Willy-Brandt-Straße\, Stuttgart\, 70173 Baden-Württemberg\, Deut
 schland
DTSTART:20240308T190000Z
DTEND:20240308T210000Z
DTSTAMP:20240107T093805Z
ORGANIZER;CN=workshop@ kepler-sternwarte.de:MAILTO:workshop@kepler-sternwar
 te.de
GEO:48.78344;9.186892
X-APPLE-STRUCTURED-LOCATION;VALUE=URI;X-ADDRESS=Willy-Brandt-Straße\, Stut
 tgart\, 70173 Baden-Württemberg\, Deutschland;X-APPLE-RADIUS=72;X-TITLE=P
 lanetarium Stuttgart:48.78344;9.186892
END:VEVENT
END:VCALENDAR