BEGIN:VCALENDAR
VERSION:2.0
PRODID:Events Booking
BEGIN:VEVENT
UID:69e7dfb50e21f
SUMMARY:Curiosity und Perseverance – Neues von den Marsrovern
DESCRIPTION:Dr. Walter Goetz
 Max-Planck-Institut für Sonnensystemforschu
 ng\, Göttingen
 &nbsp\;
 Ort: Keplersaal im Planetarium Stuttgart
 Kas
 senöffnung eine halbe Stunde vor Beginn.
 Beginn: 20 Uhr
 Kein Kartenvo
 rverkauf. Keine Reservierung. Eintritt: 5\,00 € 
 Kostenlos für Mitgli
 eder der Schwäbischen Sternwarte e. V.\, der Kepler-Gesellschaft e.V. und
  der Gesellschaft zur Förderung des Planetariums Stuttgart und der Sternw
 arte Welzheim e.V.
LOCATION:Willy-Brandt-Straße\, Stuttgart\, 70173 Baden-Württemberg\, Deut
 schland
DTSTART:20240126T190000Z
DTEND:20240126T200000Z
DTSTAMP:20240106T154748Z
ORGANIZER;CN=workshop@ kepler-sternwarte.de:MAILTO:workshop@kepler-sternwar
 te.de
GEO:48.78344;9.186892
X-APPLE-STRUCTURED-LOCATION;VALUE=URI;X-ADDRESS=Willy-Brandt-Straße\, Stut
 tgart\, 70173 Baden-Württemberg\, Deutschland;X-APPLE-RADIUS=72;X-TITLE=P
 lanetarium Stuttgart:48.78344;9.186892
END:VEVENT
END:VCALENDAR