BEGIN:VCALENDAR
VERSION:2.0
PRODID:Events Booking
BEGIN:VEVENT
UID:69e791fb4738f
SUMMARY:Den Mond beobachten und selbst fotographieren
DESCRIPTION:Auf der Kepler-Sternwarte in Weil der Stadt bieten wir\, bei ge
 eignetem Wetter\, eine Mondbeobachtung an (Nur wenn der Mond auch sichtbar
  ist!). Es können dabei auch selbst\, unter Anleitung\, Aufnahmen gemacht
  werden. Wer ein Android-Handy besitzt\, kann das mit bringen. Ansonsten n
 ehmen wir mit einer Astrokamera Bilder auf\, die dann entweder als Origina
 l oder als bearbeitete Dateien mitgenommen oder zugeschickt werden können
 . Wer nicht fotographieren möchte\, darf sich an schönen Bilder des Mond
 es durch unser Teleskop erfreuen. Fachliche Betreuung ist gewährleistet.
 
 &nbsp\;
 Über diesen Link können sich Benutzer mit Andoid Smartphones
  die App zum Verbinden mit der USB-Kamera aus dem Google-App-Store heruntz
 erladen.
 &nbsp\;
 
 https://play.google.com/store/apps/details?id=pl.n
 extcamera&amp\;pcampaignid=web_share
 
 &nbsp\;
LOCATION:Johannes-Kepler-Gymnasium\, Max-Caspar-Straße 47\, Weil der Stadt
 \, Baden-Württemberg\, 71263\, Deutschland
DTSTART:20240515T183000Z
DTEND:20240515T193000Z
DTSTAMP:20240407T082724Z
ORGANIZER;CN=workshop@ kepler-sternwarte.de:MAILTO:workshop@kepler-sternwar
 te.de
GEO:48.752784;8.861008
X-APPLE-STRUCTURED-LOCATION;VALUE=URI;X-ADDRESS=Johannes-Kepler-Gymnasium\,
  Max-Caspar-Straße 47\, Weil der Stadt\, Baden-Württemberg\, 71263\, Deu
 tschland;X-APPLE-RADIUS=72;X-TITLE=Johannes Kepler Sternwarte Weil der Sta
 dt:48.752784;8.861008
END:VEVENT
END:VCALENDAR