BEGIN:VCALENDAR
VERSION:2.0
PRODID:Events Booking
BEGIN:VEVENT
UID:69e75c7011792
SUMMARY:Entfällt!!  Den Mond beobachten und selbst fotographieren
DESCRIPTION:Dieser Termin entfällt!! Es ist leider für eine Beobachtung n
 och zu hell.
 &nbsp\;
 Auf der Kepler-Sternwarte in Weil der Stadt biete
 n wir\, bei geeignetem Wetter\, eine Mondbeobachtung an (Nur wenn der Mond
  auch sichtbar ist!). Es können dabei auch selbst\, unter Anleitung\, Auf
 nahmen gemacht werden. Wer ein Android-Handy besitzt\, kann das mit bringe
 n. Ansonsten nehmen wir mit einer Astrokamera Bilder auf\, die dann entwed
 er als Original oder als bearbeitete Dateien mitgenommen oder zugeschickt 
 werden können. Wer nicht fotographieren möchte\, darf sich an schönen B
 ilder des Mondes durch unser Teleskop erfreuen. Fachliche Betreuung ist ge
 währleistet.
 &nbsp\;
 Über diesen Link können sich Benutzer mit Ando
 id Smartphones die App zum Verbinden mit der USB-Kamera aus dem Google-App
 -Store heruntzerladen.
 &nbsp\;
 
 https://play.google.com/store/apps/d
 etails?id=pl.nextcamera&amp\;pcampaignid=web_share
 
 &nbsp\;
LOCATION:Johannes-Kepler-Gymnasium\, Max-Caspar-Straße 47\, Weil der Stadt
 \, Baden-Württemberg\, 71263\, Deutschland
DTSTART:20240711T193000Z
DTEND:20240711T203000Z
DTSTAMP:20240407T082724Z
ORGANIZER;CN=workshop@ kepler-sternwarte.de:MAILTO:workshop@kepler-sternwar
 te.de
GEO:48.752784;8.861008
X-APPLE-STRUCTURED-LOCATION;VALUE=URI;X-ADDRESS=Johannes-Kepler-Gymnasium\,
  Max-Caspar-Straße 47\, Weil der Stadt\, Baden-Württemberg\, 71263\, Deu
 tschland;X-APPLE-RADIUS=72;X-TITLE=Johannes Kepler Sternwarte Weil der Sta
 dt:48.752784;8.861008
END:VEVENT
END:VCALENDAR