BEGIN:VCALENDAR
VERSION:2.0
PRODID:Events Booking
BEGIN:VEVENT
UID:69e7415d36ec8
SUMMARY:Perseiden Beobachtung
DESCRIPTION:Am 12.-13.-14. August ist unsere Beobachtungsplattform ab 21:30
  Uhr für Besucher geöffnet. Wir zeigen\, aus welcher Richtung sie kommen
  (Perseus)\, erklären ihren Ursprung und warum wohl keine auf der Erde al
 s Meteoriten zu finden sind. &nbsp\;&nbsp\;
LOCATION:Johannes-Kepler-Gymnasium\, Max-Caspar-Straße 47\, Weil der Stadt
 \, Baden-Württemberg\, 71263\, Deutschland
DTSTART:20240814T193000Z
DTEND:20240814T210000Z
DTSTAMP:20240808T081903Z
ORGANIZER;CN=workshop@ kepler-sternwarte.de:MAILTO:workshop@kepler-sternwar
 te.de
GEO:48.752784;8.861008
X-APPLE-STRUCTURED-LOCATION;VALUE=URI;X-ADDRESS=Johannes-Kepler-Gymnasium\,
  Max-Caspar-Straße 47\, Weil der Stadt\, Baden-Württemberg\, 71263\, Deu
 tschland;X-APPLE-RADIUS=72;X-TITLE=Johannes Kepler Sternwarte Weil der Sta
 dt:48.752784;8.861008
END:VEVENT
END:VCALENDAR