BEGIN:VCALENDAR
VERSION:2.0
PRODID:Events Booking
BEGIN:VEVENT
UID:69e8efa17c4ae
SUMMARY:Sternführung
DESCRIPTION:
 Wir bieten wieder Sternführungen an\, sofern nicht Wolken a
 m Himmel die Sicht versperren. Beginn ist bis Ende März 2023 Freitags um 
 20:00 Uhr. Voraussetzung ist ein sternklarer Himmel. Eine Anmeldung ist ni
 cht mehr erforderlich. Für größere Gruppen\, ab 8 Personen\, bitten wir
  um eine Anmeldung über unser Kontaktformular.
 Jupiter mit seinen Monde
 n kann in unseren Führungen&nbsp\; im Januar/Februar gezeigt werden\, auc
 h Mars ist weiterhin gut zu beobachten. Saturn hat sich bereits vom Abendh
 immel verabschiedet\, aber die Wintersternbilder und viele 'Deep Sky' - Ob
 jekte können jetzt bewundert werden.
 
LOCATION:Johannes-Kepler-Gymnasium\, Max-Caspar-Straße 47\, Weil der Stadt
 \, Baden-Württemberg\, 71263\, Deutschland
DTSTART:20230303T190000Z
DTEND:20230203T210000Z
DTSTAMP:20230131T194705Z
ORGANIZER;CN=workshop@ kepler-sternwarte.de:MAILTO:workshop@kepler-sternwar
 te.de
GEO:48.752784;8.861008
X-APPLE-STRUCTURED-LOCATION;VALUE=URI;X-ADDRESS=Johannes-Kepler-Gymnasium\,
  Max-Caspar-Straße 47\, Weil der Stadt\, Baden-Württemberg\, 71263\, Deu
 tschland;X-APPLE-RADIUS=72;X-TITLE=Johannes Kepler Sternwarte Weil der Sta
 dt:48.752784;8.861008
END:VEVENT
END:VCALENDAR