BEGIN:VCALENDAR
VERSION:2.0
PRODID:Events Booking
BEGIN:VEVENT
UID:69e90ae58acbb
SUMMARY:Sternführung
DESCRIPTION:Wir bieten wieder Sternführungen an\, sofern nicht Wolken am H
 immel die Sicht versperren. Beginn ist bis Ende März 2023 Freitags um 20:
 00 Uhr. Voraussetzung ist ein sternklarer Himmel. Eine Anmeldung ist nicht
  mehr erforderlich. Für größere Gruppen\, ab 8 Personen\, bitten wir um
  eine Anmeldung über unser Kontaktformular.
DTSTART:20230310T190000Z
DTEND:20230310T210000Z
DTSTAMP:20230204T124458Z
ORGANIZER;CN=workshop@ kepler-sternwarte.de:MAILTO:workshop@kepler-sternwar
 te.de
END:VEVENT
END:VCALENDAR