BEGIN:VCALENDAR
VERSION:2.0
PRODID:Events Booking
BEGIN:VEVENT
UID:69e880657e3ed
SUMMARY:Treffen der Jugendgruppe
DESCRIPTION:Weitere Details auf der Homepage der Jugendgruppe.
LOCATION:Max-Caspar-Straße\,47  Weil der Stadt\, 71263 Baden-Württemberg\
 , Deutschland
DTSTART:20230721T160000Z
DTEND:20230719T173000Z
DTSTAMP:20230204T125837Z
ORGANIZER;CN=workshop@ kepler-sternwarte.de:MAILTO:workshop@kepler-sternwar
 te.de
GEO:48.751763;8.860437
X-APPLE-STRUCTURED-LOCATION;VALUE=URI;X-ADDRESS=Max-Caspar-Straße\,47  Wei
 l der Stadt\, 71263 Baden-Württemberg\, Deutschland;X-APPLE-RADIUS=72;X-T
 ITLE=Johannes Kepler Gymnasium Physik Saal:48.751763;8.860437
END:VEVENT
END:VCALENDAR