BEGIN:VCALENDAR
VERSION:2.0
PRODID:Events Booking
BEGIN:VEVENT
UID:69e8c29c17876
SUMMARY:Asteroidensuche der Jugendgruppe (2)
DESCRIPTION:Nächstes Treffen der Jugendgrupe für die Asteroidensuche am F
 reitag den 12.5.2023 falls neue Bilder zur Auswertung vom PS2 Teleskop auf
  Maui / Hawaii eintreffen.
 Weitere Details auf der Homepage der Jugendgr
 uppe.
LOCATION:Max-Caspar-Straße\,47  Weil der Stadt\, 71263 Baden-Württemberg\
 , Deutschland
DTSTART:20230505T160000Z
DTEND:20230505T173000Z
DTSTAMP:20230204T125837Z
ORGANIZER;CN=workshop@ kepler-sternwarte.de:MAILTO:workshop@kepler-sternwar
 te.de
GEO:48.751763;8.860437
X-APPLE-STRUCTURED-LOCATION;VALUE=URI;X-ADDRESS=Max-Caspar-Straße\,47  Wei
 l der Stadt\, 71263 Baden-Württemberg\, Deutschland;X-APPLE-RADIUS=72;X-T
 ITLE=Johannes Kepler Gymnasium Physik Saal:48.751763;8.860437
END:VEVENT
END:VCALENDAR